Workbook

Sheet Philips Pl Summary
B2: PHILLIPS 66
B3: INCOME_STATEMENT
B4: Consolidated Statement of Income Phillips 66
C5: Millions of Dollars
B6: Years Ended December 31 | C6: 2019 | D6: 2018 | E6: 2017 | F6: 2016 | G6: 2015
B7: Revenues and Other Income
B8: Sales and other operating revenues* | C8: 107293 | D8: 111461 | E8: 102354 | F8: 84279 | G8: 98975
B9: Equity in earnings of affiliates | C9: 2127 | D9: 2676 | E9: 1732 | F9: 1414 | G9: 1573
B10: Net gain on dispositions | C10: 20 | D10: 19 | E10: 15 | F10: 10 | G10: 283
B11: Other income | C11: 119 | D11: 61 | E11: 521 | F11: 74 | G11: 118
B12: Total Revenues and Other Income | C12: 109559 | D12: 114217 | E12: 104622 | F12: 85777 | G12: 100949
B13: Costs and Expenses
B14: Purchased crude oil and products | C14: 95529 | D14: 97930 | E14: 79409 | F14: 62468 | G14: 73399
B15: Operating expenses | C15: 5074 | D15: 4880 | E15: 4699 | F15: 4275 | G15: 4294
B16: Selling, general and administrative expenses | C16: 1681 | D16: 1677 | E16: 1695 | F16: 1638 | G16: 1670
B17: Depreciation and amortization | C17: 1341 | D17: 1356 | E17: 1318 | F17: 1168 | G17: 1078
B18: Impairments | C18: 861 | D18: 8 | E18: 24 | F18: 5 | G18: 7
B19: Taxes other than income taxes* | C19: 409 | D19: 425 | E19: 13462 | F19: 13688 | G19: 14077
B20: Accretion on discounted liabilities | C20: 23 | D20: 23 | E20: 22 | F20: 21 | G20: 21
B21: Interest and debt expense | C21: 458 | D21: 504 | E21: 438 | F21: 338 | G21: 310
B22: Foreign currency transaction (gains) losses | C22: 5 | D22: -31 | E22: 0 | F22: -15 | G22: 49
B23: Total Costs and Expenses | C23: 105381 | D23: 106772 | E23: 101067 | F23: 83586 | G23: 94905
B24: Income before income taxes | C24: 4178 | D24: 7445 | E24: 3555 | F24: 2191 | G24: 6044
B25: Income tax expense (benefit) | C25: 801 | D25: 1572 | E25: -1693 | F25: 547 | G25: 1764
B26: Net Income | C26: 3377 | D26: 5873 | E26: 5248 | F26: 1644 | G26: 4280
B27: Less: net income attributable to noncontrolling
B28: interests | C28: 301 | D28: 278 | E28: 142 | F28: 89 | G28: 53
B29: Net Income Attributable to Phillips 66 | C29: 3076 | D29: 5595 | E29: 5106 | F29: 1555 | G29: 4227
B31: Net Income Attributable to Phillips 66 Per
B32: Share of Common Stock (dollars)
B33: Basic | C33: 6.8 | D33: 11.87 | E33: 9.9 | F33: 2.94 | G33: 7.78
B34: Diluted | C34: 6.77 | D34: 11.8 | E34: 9.85 | F34: 2.92 | G34: 7.73
B35: Weighted-Average Common Shares
B36: Outstanding (thousands)
B37: Basic | C37: 451364 | D37: 470708 | E37: 515090 | F37: 527531 | G37: 542355
B38: Diluted | C38: 453888 | D38: 474047 | E38: 518508 | F38: 530066 | G38: 546977

Sheet Marathon PL Summary
B3: Marathon Petroleum Corporation
B4: Statement of Comphrehensive Income Summary
C5: (In millions, except per share data)
C6: 2019 | D6: 2018 | E6: 2017 | F6: 2016 | G6: 2015
B7: Revenues and other income:
B8: Sales and other operating revenues(a) | C8: 123949 | D8: 96504 | E8: 74733 | F8: 63339 | G8: 72051
B9: Income from equity method investments | C9: 394 | D9: 373 | E9: 306 | F9: -185 | G9: 88
B10: Net gain on disposal of assets | C10: 307 | D10: 23 | E10: 10 | F10: 32 | G10: 7
B11: Other income | C11: 163 | D11: 202 | E11: 320 | F11: 178 | G11: 112
B12: Total revenues and other income | C12: 124813 | D12: 97102 | E12: 75369 | F12: 63364 | G12: 72258
B13: Costs and expenses:
B14: Cost of revenues (excludes items below)(a) | C14: 110243 | D14: 86066 | E14: 67089 | F14: 49170 | G14: 55583
B15: Impairment expense | C15: 1197 | D15: - | E15: - | F15: 130 | G15: 144
B16: Purchases from related parties | F16: 509 | G16: 308
B17: Inventory market valuation adjustment | F17: -370 | G17: 370
B18: Consumer excise taxes | F18: 7506 | G18: 7692
B19: Depreciation and amortization | C19: 3638 | D19: 2490 | E19: 2114 | F19: 2001 | G19: 1502
B20: Selling, general and administrative expenses | C20: 3408 | D20: 2418 | E20: 1694 | F20: 1605 | G20: 1576
B21: Other taxes | C21: 751 | D21: 557 | E21: 454 | F21: 435 | G21: 391
B22: Total costs and expenses | C22: 119237 | D22: 91531 | E22: 71351 | F22: 60986 | G22: 67566
B23: Income from operations | C23: 5576 | D23: 5571 | E23: 4018 | F23: 2378 | G23: 4692
B24: Net interest and other financial costs | C24: 1247 | D24: 1003 | E24: 674 | F24: -556 | G24: -318
B25: Income before income taxes | C25: 4329 | D25: 4568 | E25: 3344 | F25: 1822 | G25: 4374
B26: Provision (benefit) for income taxes | C26: 1074 | D26: 962 | E26: -460 | F26: 609 | G26: 1506
B27: Net income | C27: 3255 | D27: 3606 | E27: 3804 | F27: 1213 | G27: 2868
B28: Less net income attributable to:
B29: Redeemable noncontrolling interest | C29: 81 | D29: 75 | E29: 65 | F29: 41 | G29: 0
B30: Noncontrolling interests | C30: 537 | D30: 751 | E30: 307 | F30: -2 | G30: 16
B31: Net income attributable to MPC | C31: 2637 | D31: 2780 | E31: 3432 | F31: 1174 | G31: 2852
B32: Per Share Data (See Note 8)
B33: Basic:
B34: Net income attributable to MPC per share | C34: 4 | D34: 5.36 | E34: 6.76 | F34: 2.22 | G34: 5.29
B35: Weighted average shares outstanding | C35: 659 | D35: 518 | E35: 507 | F35: 528 | G35: 538
B36: Diluted:
B37: Net income attributable to MPC per share | C37: 3.97 | D37: 5.28 | E37: 6.7 | F37: 2.21 | G37: 5.26
B38: Weighted average shares outstanding | C38: 664 | D38: 526 | E38: 512 | F38: 530 | G38: 542

Sheet Philips BS Summary
B2: Philips 66
B3: Balance Sheet
B4: Report Date | C4: 2019 | D4: 2018 | E4: 2017 | F4: 2016 | G4: 2015
C5: Millions | D5: Millions | E5: Millions | F5: Millions | G5: Millions
B6: Cash & cash equivalents | C6: 1614 | D6: 3019 | E6: 3119 | F6: 2711 | G6: 3074
B7: Accounts & notes receivable, gross | C7: 7417 | D7: 5436 | E7: 6453 | F7: 5519 | G7: 4466
B8: Less: allowances - accounts & notes receivable | C8: 41 | D8: 22 | E8: 29 | F8: 34 | G8: 55
B9: Accounts & notes receivable, net | C9: 7376 | D9: 5414 | E9: 6424 | F9: 5485 | G9: 4411
B10: Accounts & notes receivable - related parties | C10: 1134 | D10: 759 | E10: 1082 | F10: 912 | G10: 762
B11: Crude oil & petroleum products | C11: 3452 | D11: 3238 | E11: 3106 | F11: 2883 | G11: 0
B12: Materials & supplies | C12: 324 | D12: 305 | E12: 289 | F12: 267 | G12: 0
B13: Inventories | C13: 3776 | D13: 3543 | E13: 3395 | F13: 3150 | G13: 3477
B14: Prepaid expenses & other current assets | C14: 495 | D14: 474 | E14: 370 | F14: 422 | G14: 532
B15: Total current assets | C15: 14395 | D15: 13209 | E15: 14390 | F15: 12680 | G15: 12256
B16: Equity investments | C16: 14284 | D16: 14218 | E16: 13733 | F16: 13102 | G16: 0
B17: Loans & long-term receivables | C17: 157 | D17: 97 | E17: 94 | F17: 334 | G17: 0
... B71: Total liabilities | C71: 31551 | D71: 27149 | E71: 26943 | F71: 27928 | G71: 24642
B72: Common stock - par value | D72: 6 | E72: 6 | F72: 6 | G72: 6
B73: Capital in excess of par | C73: 20301 | D73: 19873 | E73: 19768 | F73: 19559 | G73: 19145
B74: Treasury stock | C74: 16673 | D74: 15023 | E74: 10378 | F74: 8788 | G74: 7746
B75: Retained earnings | C75: 22064 | D75: 20489 | E75: 16306 | F75: 12608 | G75: 12348
B76: Defined benefit plans | C76: -656 | D76: -472 | E76: -598 | F76: -713 | G76: -662
B77: Foreign currency translation | C77: -131 | D77: -228 | E77: -26 | F77: -285 | G77: 11
B78: Hedging | C78: -1 | D78: 8 | E78: 7 | F78: 3 | G78: -2
B79: Accumulated other comprehensive income (loss) | C79: -788 | D79: -692 | E79: -617 | F79: -995 | G79: -653
B80: Total stockholders' equity | C80: 24910 | D80: 24653 | E80: 25085 | F80: 22390 | G80: 23100
B81: Non-controlling interests | C81: 2259 | D81: 2500 | E81: 2343 | F81: 1335 | G81: 838
B82: Total equity | C82: 27169 | D82: 27153 | E82: 27428 | F82: 23725 | G82: 23938
B83: Total Liabilities and Equity | C83: =C71+C82 -> 58720 | D83: =D71+D82 -> 54302 | E83: =E71+E82 -> 54371 | F83: =F71+F82 -> 51653 | G83: =G71+G82 -> 48580
B85: Intagible assets | C85: =C35+C36 -> 4139 | D85: =D35+D36 -> 4139 | E85: =E35+E36 -> 4146 | F85: =F35+F36 -> 4158 | G85: =G35+G36 -> 4181

Sheet Marathon BS Summary
B2: Marathon Petroleum Corporation
B3: Balance Sheet Summary
C4: 2019 | D4: 2018 | E4: 2017 | F4: 2016 | G4: 2015
C5: $ Millions
B6: Cash & cash equivalents | C6: 1527 | D6: 1687 | E6: 3011 | F6: 887 | G6: 1127
B7: Receivables, gross | C7: 7889 | D7: 5862 | E7: 4706 | F7: 3629 | G7: 2939
B8: Less: allowance for doubtful accounts | C8: -17 | D8: -9 | E8: -11 | F8: -12 | G8: -12
B9: Receivables | C9: 7872 | D9: 5853 | E9: 4695 | F9: 3617 | G9: 2927
B10: Crude oil & refinery feedstocks | C10: - | D10: 3655 | E10: 2056 | F10: 2208 | G10: 2180
B11: Crude oil | C11: 3472 | D11: - | E11: - | F11: - | G11: -
B12: Refined products | C12: 5548 | D12: 5234 | E12: 2839 | F12: 2810 | G12: 2804
B13: Materials & supplies | C13: 996 | D13: 720 | E13: 494 | F13: 485 | G13: 438
B14: Merchandise | C14: 227 | D14: 228 | E14: 161 | F14: 153 | G14: 173
B15: Lower of cost or market reserve | C15: - | D15: - | E15: - | F15: - | G15: 370
B16: Inventories | C16: 10243 | D16: 9837 | E16: 5550 | F16: 5656 | G16: 5225
B17: Other current assets | C17: 528 | D17: 646 | E17: 145 | F17: 241 | G17: 192
B18: Total current assets | C18: 20170 | D18: 18023 | E18: 13401 | F18: 10401 | G18: 9471
B19: Equity method investments | C19: 6898 | D19: 5898 | E19: 4787 | F19: 3827 | G19: 3622
B20: Refining & marketing | C20: 29037 | D20: 27590 | E20: 19490 | F20: 19447 | G20: 18925
B21: Speedway | C21: - | D21: - | E21: 5358 | F21: 5078 | G21: 5067
B22: Retail | C22: 7104 | D22: 6637 | E22: - | F22: - | G22: -
B23: Midstream | C23: 27193 | D23: 25692 | E23: 14898 | F23: 12664 | G23: 10850
B24: Corporate & other property, plant & equipment | C24: 1289 | D24: 1294 | E24: 792 | F24: 817 | G24: 762
B25: Total property, plant & equipment, gross | C25: 64623 | D25: 61213 | E25: 40538 | F25: 38006 | G25: 35604
B26: Less: accumulated depreciation | C26: -19008 | D26: -16155 | E26: -14095 | F26: -12241 | G26: -10440
B27: Property, plant & equipment, net | C27: 45615 | D27: 45058 | E27: 26443 | F27: 25765 | G27: 25164
B28: Goodwill | C28: 20040 | D28: 20184 | E28: 3586 | F28: 3587 | G28: 4019
B29: Right of use assets | C29: 2459 | D29: 0 | E29: 0 | F29: 0 | G29: 0
B30: Other noncurrent assets | C30: 3374 | D30: 3777 | E30: 830 | F30: 833 | G30: 839
B31: Total Non current assets | C31: 78386 | D31: 74917 | E31: 35646 | F31: 34012 | G31: 33644
B32: Total assets | C32: 98556 | D32: 92940 | E32: 49047 | F32: 44413 | G32: 43115
B33: Accounts payable | C33: 11623 | D33: 9366 | E33: 8297 | F33: 5593 | G33: 4743
B34: Payroll & benefits payable | C34: 1126 | D34: 1152 | E34: 591 | F34: 530 | G34: 503
B35: Consumer excise taxes payable | C35: - | D35: - | E35: 501 | F35: 464 | G35: 460
B36: Accrued taxes | C36: 1186 | D36: 1446 | E36: 169 | F36: 153 | G36: 184
B37: Debt due within one year | C37: 711 | D37: 544 | E37: 624 | F37: 28 | G37: 29
B38: Operating lease liabilities | C38: 604 | D38: - | E38: - | F38: - | G38: -
B39: Other current liabilities | C39: 897 | D39: 708 | E39: 296 | F39: 378 | G39: 426
B40: Total current liabilities | C40: 16147 | D40: 13216 | E40: 10478 | F40: 7146 | G40: 6345
B41: Term loan agreement | C41: - | D41: - | E41: - | F41: 200 | G41: 700
...

Sheet Ratios
C2: Philips 66 | I2: Marathon Petroleum Corporation
C3: 2019 | D3: 2018 | E3: 2017 | F3: 2016 | G3: 2015 | I3: 2019 | J3: 2018 | K3: 2017 | L3: 2016 | M3: 2015
A4: 1 | B4: Net Working capital, | C4: ='Philips BS Summary'!C15-'Philips BS Summary'!C46 -> 2749 | D4: ='Philips BS Summary'!D15-'Philips BS Summary'!D46 -> 4274 | E4: ='Philips BS Summary'!E15-'Philips BS Summary'!E46 -> 4283 | F4: ='Philips BS Summary'!F15-'Philips BS Summary'!F46 -> 3217 | G4: ='Philips BS Summary'!G15-'Philips BS Summary'!G46 -> 4725 | I4: ='Marathon BS Summary'!C18-'Marathon BS Summary'!C40 -> 4023 | J4: ='Marathon BS Summary'!D18-'Marathon BS Summary'!D40 -> 4807 | K4: ='Marathon BS Summary'!E18-'Marathon BS Summary'!E40 -> 2923 | L4: ='Marathon BS Summary'!F18-'Marathon BS Summary'!F40 -> 3255 | M4: ='Marathon BS Summary'!G18-'Marathon BS Summary'!G40 -> 3126
A5: 2 | B5: current ratio, | C5: ='Philips BS Summary'!C15/'Philips BS Summary'!C46 -> 1.2360467 | D5: ='Philips BS Summary'!D15/'Philips BS Summary'!D46 -> 1.4783436 | E5: ='Philips BS Summary'!E15/'Philips BS Summary'!E46 -> 1.4237657 | F5: ='Philips BS Summary'!F15/'Philips BS Summary'!F46 -> 1.3399556 | G5: ='Philips BS Summary'!G15/'Philips BS Summary'!G46 -> 1.6274067 | I5: ='Marathon BS Summary'!C18/'Marathon BS Summary'!C40 -> 1.2491484 | J5: ='Marathon BS Summary'!D18/'Marathon BS Summary'!D40 -> 1.3637258 | K5: ='Marathon BS Summary'!E18/'Marathon BS Summary'!E40 -> 1.2789655 | L5: ='Marathon BS Summary'!F18/'Marathon BS Summary'!F40 -> 1.4554996 | M5: ='Marathon BS Summary'!G18/'Marathon BS Summary'!G40 -> 1.4926714
A6: 3 | B6: quick ratio, | C6: =('Philips BS Summary'!C15-'Philips BS Summary'!C13)/'Philips BS Summary'!C46 -> 0.91181522 | D6: =('Philips BS Summary'!D15-'Philips BS Summary'!D13)/'Philips BS Summary'!D46 -> 1.0818131 | E6: =('Philips BS Summary'!E15-'Philips BS Summary'!E13)/'Philips BS Summary'!E46 -> 1.0878599 | F6: =('Philips BS Summary'!F15-'Philips BS Summary'!F13)/'Philips BS Summary'!F46 -> 1.0070802 | G6: =('Philips BS Summary'!G15-'Philips BS Summary'!G13)/'Philips BS Summary'!G46 -> 1.165715 | I6: =('Marathon BS Summary'!C18-'Marathon BS Summary'!C16)/'Marathon BS Summary'!C40 -> 0.61478912 | J6: =('Marathon BS Summary'!D18-'Marathon BS Summary'!D16)/'Marathon BS Summary'!D40 -> 0.61940073 | K6: =('Marathon BS Summary'!E18-'Marathon BS Summary'!E16)/'Marathon BS Summary'!E40 -> 0.74928421 | L6: =('Marathon BS Summary'!F18-'Marathon BS Summary'!F16)/'Marathon BS Summary'!F40 -> 0.66400784 | M6: =('Marathon BS Summary'!G18-'Marathon BS Summary'!G16)/'Marathon BS Summary'!G40 -> 0.66918834
A7: 5 | B7: day’s inventory, | C7: =365*(('Philips BS Summary'!C13+'Philips BS Summary'!D13)/2)/'Philips Pl Summary'!C14 -> 13.982325 | D7: =365*(('Philips BS Summary'!D13+'Philips BS Summary'!E13)/2)/'Philips Pl Summary'!D14 -> 12.92949 | E7: =365*(('Philips BS Summary'!E13+'Philips BS Summary'!F13)/2)/'Philips Pl Summary'!E14 -> 15.041903 | F7: =365*(('Philips BS Summary'!F13+'Philips BS Summary'!G13)/2)/'Philips Pl Summary'!F14 -> 19.360753 | I7: =365*(('Marathon BS Summary'!C16+'Marathon BS Summary'!D16)/2)/'Marathon PL Summary'!C14 -> 33.241113 | J7: =365*(('Marathon BS Summary'!D16+'Marathon BS Summary'!E16)/2)/'Marathon PL Summary'!D14 -> 32.627606 | K7: =365*(('Marathon BS Summary'!E16+'Marathon BS Summary'!F16)/2)/'Marathon PL Summary'!E14 -> 30.483313 | L7: =365*(('Marathon BS Summary'!F16+'Marathon BS Summary'!G16)/2)/'Marathon PL Summary'!F14 -> 40.386059
A8: 6 | B8: day’s receivables, | C8: =365*(('Philips BS Summary'!C9+'Philips BS Summary'!D9)/2)/'Philips Pl Summary'!C12 -> 21.305187 | D8: =365*(('Philips BS Summary'!D9+'Philips BS Summary'!E9)/2)/'Philips Pl Summary'!D12 -> 18.915179 | E8: =365*(('Philips BS Summary'!E9+'Philips BS Summary'!F9)/2)/'Philips Pl Summary'!E12 -> 20.773762 | F8: =365*(('Philips BS Summary'!F9+'Philips BS Summary'!G9)/2)/'Philips Pl Summary'!F12 -> 21.054828 | I8: =365*(('Marathon BS Summary'!C9+'Marathon BS Summary'!D9)/2)/'Marathon PL Summary'!C12 -> 20.068523 | J8: =365*(('Marathon BS Summary'!D9+'Marathon BS Summary'!E9)/2)/'Marathon PL Summary'!D12 -> 19.824617 | K8: =365*(('Marathon BS Summary'!E9+'Marathon BS Summary'!F9)/2)/'Marathon PL Summary'!E12 -> 20.126843 | L8: =365*(('Marathon BS Summary'!F9+'Marathon BS Summary'!G9)/2)/'Marathon PL Summary'!F12 -> 18.847926
A9: 7 | B9: day’s payables, | C9: =365*(('Philips BS Summary'!C40+'Philips BS Summary'!D40)/2)/'Philips Pl Summary'!C14 -> 27.04383 | D9: =365*(('Philips BS Summary'!D40+'Philips BS Summary'!E40)/2)/'Philips Pl Summary'!D14 -> 24.888058 | E9: =365*(('Philips BS Summary'!E40+'Philips BS Summary'!F40)/2)/'Philips Pl Summary'!E14 -> 31.340937 | F9: =365*(('Philips BS Summary'!F40+'Philips BS Summary'!G40)/2)/'Philips Pl Summary'!F14 -> 33.743277 | I9: =365*(('Marathon BS Summary'!C33+'Marathon BS Summary'!D33)/2)/'Marathon PL Summary'!C14 -> 34.745902 | J9: =365*(('Marathon BS Summary'!D33+'Marathon BS Summary'!E33)/2)/'Marathon PL Summary'!D14 -> 37.453785 | K9: =365*(('Marathon BS Summary'!E33+'Marathon BS Summary'!F33)/2)/'Marathon PL Summary'!E14 -> 37.78451 | L9: =365*(('Marathon BS Summary'!F33+'Marathon BS Summary'!G33)/2)/'Marathon PL Summary'!F14 -> 38.36323
A10: 8 | B10: cash conversion cycle, | C10: =C7+C8-C9 -> 8.2436823 | D10: =D7+D8-D9 -> 6.9566117 | E10: =E7+E8-E9 -> 4.4747276 | F10: =F7+F8-F9 -> 6.6723044 | I10: =I7+I8-I9 -> 18.563733 | J10: =J7+J8-J9 -> 14.998438 | K10: =K7+K8-K9 -> 12.825646 | L10: =L7+L8-L9 -> 20.870755
A11: 9 | B11: cash turnover ratio, | C11: ='Philips Pl Summary'!C12/'Philips BS Summary'!C6 -> 67.880421 | D11: ='Philips Pl Summary'!D12/'Philips BS Summary'!D6 -> 37.832726 | E11: ='Philips Pl Summary'!E12/'Philips BS Summary'!E6 -> 33.543443 | F11: ='Philips Pl Summary'!F12/'Philips BS Summary'!F6 -> 31.640354 | G11: ='Philips Pl Summary'!G12/'Philips BS Summary'!G6 -> 32.839623 | I11: ='Marathon PL Summary'!C12/'Marathon BS Summary'!C6 -> 81.737394 | J11: ='Marathon PL Summary'!D12/'Marathon BS Summary'!D6 -> 57.55898 | K11: ='Marathon PL Summary'!E12/'Marathon BS Summary'!E6 -> 25.031219 | L11: ='Marathon PL Summary'!F12/'Marathon BS Summary'!F6 -> 71.436302 | M11: ='Marathon PL Summary'!G12/'Marathon BS Summary'!G6 -> 64.11535
A12: 10 | B12: total asset turnover, | C12: ='Philips Pl Summary'!C12/(('Philips BS Summary'!C39+'Philips BS Summary'!D39)/2) -> 1.9387199 | D12: ='Philips Pl Summary'!D12/(('Philips BS Summary'!D39+'Philips BS Summary'!E39)/2) -> 2.1020309 | E12: ='Philips Pl Summary'!E12/(('Philips BS Summary'!E39+'Philips BS Summary'!F39)/2) -> 1.9735532 | F12: ='Philips Pl Summary'!F12/(('Philips BS Summary'!F39+'Philips BS Summary'!G39)/2) -> 1.7115521 | I12: ='Marathon PL Summary'!C12/(('Marathon BS Summary'!C32+'Marathon BS Summary'!D32)/2) -> 1.3035573 | J12: ='Marathon PL Summary'!D12/(('Marathon BS Summary'!D32+'Marathon BS Summary'!E32)/2) -> 1.367759 | K12: ='Marathon PL Summary'!E12/(('Marathon BS Summary'!E32+'Marathon BS Summary'!F32)/2) -> 1.6128611 | L12: ='Marathon PL Summary'!F12/(('Marathon BS Summary'!F32+'Marathon BS Summary'!G32)/2) -> 1.4478567
A13: 11 | B13: fixed asset turnover, | C13: ='Philips Pl Summary'!C12/(('Philips BS Summary'!C38+'Philips BS Summary'!D38)/2) -> 2.5652439 | D13: ='Philips Pl Summary'!D12/(('Philips BS Summary'!D38+'Philips BS Summary'!E38)/2) -> 2.8175987 | E13: ='Philips Pl Summary'!E12/(('Philips BS Summary'!E38+'Philips BS Summary'!F38)/2) -> 2.6502014 | F13: ='Philips Pl Summary'!F12/(('Philips BS Summary'!F38+'Philips BS Summary'!G38)/2) -> 2.2783643 | I13: ='Marathon PL Summary'!C12/(('Marathon BS Summary'!C31+'Marathon BS Summary'!D31)/2) -> 1.6283178 | J13: ='Marathon PL Summary'!D12/(('Marathon BS Summary'!D31+'Marathon BS Summary'!E31)/2) -> 1.7565008 | K13: ='Marathon PL Summary'!E12/(('Marathon BS Summary'!E31+'Marathon BS Summary'!F31)/2) -> 2.1639726 | L13: ='Marathon PL Summary'!F12/(('Marathon BS Summary'!F31+'Marathon BS Summary'!G31)/2) -> 1.8731229
A14: 12 | B14: current asset turnover, | C14: ='Philips Pl Summary'!C12/(('Philips BS Summary'!C15+'Philips BS Summary'!D15)/2) -> 7.9379075 | D14: ='Philips Pl Summary'!D12/(('Philips BS Summary'!D15+'Philips BS Summary'!E15)/2) -> 8.2768941 | E14: ='Philips Pl Summary'!E12/(('Philips BS Summary'!E15+'Philips BS Summary'!F15)/2) -> 7.7297377 | F14: ='Philips Pl Summary'!F12/(('Philips BS Summary'!F15+'Philips BS Summary'!G15)/2) -> 6.8797722 | I14: ='Marathon PL Summary'!C12/(('Marathon BS Summary'!C18+'Marathon BS Summary'!D18)/2) -> 6.5359097 | J14: ='Marathon PL Summary'!D12/(('Marathon BS Summary'!D18+'Marathon BS Summary'!E18)/2) -> 6.1801171 | K14: ='Marathon PL Summary'!E12/(('Marathon BS Summary'!E18+'Marathon BS Summary'!F18)/2) -> 6.3329972 | L14: ='Marathon PL Summary'!F12/(('Marathon BS Summary'!F18+'Marathon BS Summary'!G18)/2) -> 6.3772142
A15: 13 | B15: working capital turnover, | C15: ='Philips Pl Summary'!C12/Ratios!C4 -> 39.854129 | D15: ='Philips Pl Summary'!D12/Ratios!D4 -> 26.723678 | E15: ='Philips Pl Summary'!E12/Ratios!E4 -> 24.427271 | F15: ='Philips Pl Summary'!F12/Ratios!F4 -> 26.663662 | G15: ='Philips Pl Summary'!G12/Ratios!G4 -> 21.364868 | I15: ='Marathon PL Summary'!C12/Ratios!I4 -> 31.024857 | J15: ='Marathon PL Summary'!D12/Ratios!J4 -> 20.200125 | K15: ='Marathon PL Summary'!E12/Ratios!K4 -> 25.78481 | L15: ='Marathon PL Summary'!F12/Ratios!L4 -> 19.466667 | M15: ='Marathon PL Summary'!G12/Ratios!M4 -> 23.115163
A16: 14 | B16: times interest earned, | C16: ='Philips Pl Summary'!C29/'Philips Pl Summary'!C21 -> 6.7161572 | D16: ='Philips Pl Summary'!D29/'Philips Pl Summary'!D21 -> 11.10119 | E16: ='Philips Pl Summary'!E29/'Philips Pl Summary'!E21 -> 11.657534 | F16: ='Philips Pl Summary'!F29/'Philips Pl Summary'!F21 -> 4.6005917 | G16: ='Philips Pl Summary'!G29/'Philips Pl Summary'!G21 -> 13.635484 | I16: ='Marathon PL Summary'!C31/'Marathon PL Summary'!C24 -> 2.1146752 | J16: ='Marathon PL Summary'!D31/'Marathon PL Summary'!D24 -> 2.7716849 | K16: ='Marathon PL Summary'!E31/'Marathon PL Summary'!E24 -> 5.0919881 | L16: ='Marathon PL Summary'!F31/'Marathon PL Summary'!F24 -> -2.1115108 | M16: ='Marathon PL Summary'!G31/'Marathon PL Summary'!G24 -> -8.9685535
A17: 15 | B17: long-term debt to total capital, | C17: ='Philips BS Summary'!C70/'Philips BS Summary'!C83 -> 0.33898161 | D17: ='Philips BS Summary'!D70/'Philips BS Summary'!D83 -> 0.33542043 | E17: ='Philips BS Summary'!E70/'Philips BS Summary'!E83 -> 0.30965037 | F17: ='Philips BS Summary'!F70/'Philips BS Summary'!F83 -> 0.35748166 | G17: ='Philips BS Summary'!G70/'Philips BS Summary'!G83 -> 0.35222314 | I17: ='Marathon BS Summary'!C57/'Marathon BS Summary'!C72 -> 0.39877836 | J17: ='Marathon BS Summary'!D57/'Marathon BS Summary'!D72 -> 0.37304713 | K17: ='Marathon BS Summary'!E57/'Marathon BS Summary'!E72 -> 0.34132567 | L17: ='Marathon BS Summary'!F57/'Marathon BS Summary'!F72 -> 0.3616959 | M17: ='Marathon BS Summary'!G57/'Marathon BS Summary'!G72 -> 0.39649774
A18: 16 | B18: debt to tangible net worth, | C18: ='Philips BS Summary'!C71/('Philips BS Summary'!C82-'Philips BS Summary'!C85) -> 1.3699957 | D18: ='Philips BS Summary'!D71/('Philips BS Summary'!D82-'Philips BS Summary'!D85) -> 1.1796732 | E18: ='Philips BS Summary'!E71/('Philips BS Summary'!E82-'Philips BS Summary'!E85) -> 1.1572459 | F18: ='Philips BS Summary'!F71/('Philips BS Summary'!F82-'Philips BS Summary'!F85) -> 1.4273011 | G18: ='Philips BS Summary'!G71/('Philips BS Summary'!G82-'Philips BS Summary'!G85) -> 1.2472541 | I18: ='Marathon BS Summary'!C58/('Marathon BS Summary'!C71-'Marathon BS Summary'!C74) -> 2.8232688 | J18: ='Marathon BS Summary'!D58/('Marathon BS Summary'!D71-'Marathon BS Summary'!D74) -> 2.0065787 | K18: ='Marathon BS Summary'!E58/('Marathon BS Summary'!E71-'Marathon BS Summary'!E74) -> 1.5786452 | L18: ='Marathon BS Summary'!F58/('Marathon BS Summary'!F71-'Marathon BS Summary'!F74) -> 1.3968464 | M18: ='Marathon BS Summary'!G58/('Marathon BS Summary'!G71-'Marathon BS Summary'!G74) -> 1.4971896
A19: 17 | B19: total liabilities to total asset, | C19: ='Philips BS Summary'!C71/'Philips BS Summary'!C39 -> 0.53731267 | D19: ='Philips BS Summary'!D71/'Philips BS Summary'!D39 -> 0.49996317 | E19: ='Philips BS Summary'!E71/'Philips BS Summary'!E39 -> 0.4955399 | F19: ='Philips BS Summary'!F71/'Philips BS Summary'!F39 -> 0.54068496 | G19: ='Philips BS Summary'!G71/'Philips BS Summary'!G39 -> 0.50724578 | I19: ='Marathon BS Summary'!C58/'Marathon BS Summary'!C32 -> 0.56261415 | J19: ='Marathon BS Summary'!D58/'Marathon BS Summary'!D32 -> 0.5152464 | K19: ='Marathon BS Summary'!E58/'Marathon BS Summary'!E32 -> 0.55495749 | L19: ='Marathon BS Summary'!F58/'Marathon BS Summary'!F32 -> 0.52259474 | M19: ='Marathon BS Summary'!G58/'Marathon BS Summary'!G32 -> 0.5436623
A20: 18 | B20: equity ratio, | C20: ='Philips BS Summary'!C82/'Philips BS Summary'!C39 -> 0.46268733 | D20: ='Philips BS Summary'!D82/'Philips BS Summary'!D39 -> 0.50003683 | E20: ='Philips BS Summary'!E82/'Philips BS Summary'!E39 -> 0.5044601 | F20: ='Philips BS Summary'!F82/'Philips BS Summary'!F39 -> 0.45931504 | G20: ='Philips BS Summary'!G82/'Philips BS Summary'!G39 -> 0.49275422 | I20: ='Marathon BS Summary'!C71/'Marathon BS Summary'!C32 -> 0.42756402 | J20: ='Marathon BS Summary'!D71/'Marathon BS Summary'!D32 -> 0.47395094 | K20: ='Marathon BS Summary'!E71/'Marathon BS Summary'!E32 -> 0.4246539 | L20: ='Marathon BS Summary'!F71/'Marathon BS Summary'!F32 -> 0.45488933 | M20: ='Marathon BS Summary'!G71/'Marathon BS Summary'!G32 -> 0.4563377
A21: 19 | B21: gross profit margin, | C21: =('Philips Pl Summary'!C12-'Philips Pl Summary'!C14)/'Philips Pl Summary'!C12 -> 0.12805885 | D21: =('Philips Pl Summary'!D12-'Philips Pl Summary'!D14)/'Philips Pl Summary'!D12 -> 0.14259699 | E21: =('Philips Pl Summary'!E12-'Philips Pl Summary'!E14)/'Philips Pl Summary'!E12 -> 0.24099138 | F21: =('Philips Pl Summary'!F12-'Philips Pl Summary'!F14)/'Philips Pl Summary'!F12 -> 0.27173951 | G21: =('Philips Pl Summary'!G12-'Philips Pl Summary'!G14)/'Philips Pl Summary'!G12 -> 0.27291008 | I21: =('Marathon PL Summary'!C12-'Marathon PL Summary'!C14)/'Marathon PL Summary'!C12 -> 0.11673464 | J21: =('Marathon PL Summary'!D12-'Marathon PL Summary'!D14)/'Marathon PL Summary'!D12 -> 0.11365368 | K21: =('Marathon PL Summary'!E12-'Marathon PL Summary'!E14)/'Marathon PL Summary'!E12 -> 0.10985949 | L21: =('Marathon PL Summary'!F12-'Marathon PL Summary'!F14)/'Marathon PL Summary'!F12 -> 0.22400732 | M21: =('Marathon PL Summary'!G12-'Marathon PL Summary'!G14)/'Marathon PL Summary'!G12 -> 0.2307703
A22: 20 | B22: operating profit margin, | C22: =('Philips Pl Summary'!C24+'Philips Pl Summary'!C21)/'Philips Pl Summary'!C12 -> 0.0423151 | D22: =('Philips Pl Summary'!D24+'Philips Pl Summary'!D21)/'Philips Pl Summary'!D12 -> 0.069595594 | E22: =('Philips Pl Summary'!E24+'Philips Pl Summary'!E21)/'Philips Pl Summary'!E12 -> 0.038165969 | F22: =('Philips Pl Summary'!F24+'Philips Pl Summary'!F21)/'Philips Pl Summary'!F12 -> 0.029483428 | G22: =('Philips Pl Summary'!G24+'Philips Pl Summary'!G21)/'Philips Pl Summary'!G12 -> 0.062942674 | I22: ='Marathon PL Summary'!C23/'Marathon PL Summary'!C12 -> 0.044674834 | J22: ='Marathon PL Summary'!D23/'Marathon PL Summary'!D12 -> 0.05737266 | K22: ='Marathon PL Summary'!E23/'Marathon PL Summary'!E12 -> 0.053311043 | L22: ='Marathon PL Summary'!F23/'Marathon PL Summary'!F12 -> 0.037529196 | M22: ='Marathon PL Summary'!G23/'Marathon PL Summary'!G12 -> 0.064933987
A23: 21 | B23: net profit margin, | C23: ='Philips Pl Summary'!C29/'Philips Pl Summary'!C12 -> 0.028076196 | D23: ='Philips Pl Summary'!D29/'Philips Pl Summary'!D12 -> 0.048985703 | E23: ='Philips Pl Summary'!E29/'Philips Pl Summary'!E12 -> 0.048804267 | F23: ='Philips Pl Summary'!F29/'Philips Pl Summary'!F12 -> 0.018128403 | G23: ='Philips Pl Summary'!G29/'Philips Pl Summary'!G12 -> 0.041872629 | I23: ='Marathon PL Summary'!C31/'Marathon PL Summary'!C12 -> 0.021127607 | J23: ='Marathon PL Summary'!D31/'Marathon PL Summary'!D12 -> 0.028629688 | K23: ='Marathon PL Summary'!E31/'Marathon PL Summary'!E12 -> 0.045535963 | L23: ='Marathon PL Summary'!F31/'Marathon PL Summary'!F12 -> 0.018527871 | M23: ='Marathon PL Summary'!G31/'Marathon PL Summary'!G12 -> 0.039469678
A24: 22 | B24: return on common equity, | C24: ='Philips Pl Summary'!C29/'Philips BS Summary'!C82 -> 0.11321727 | D24: ='Philips Pl Summary'!D29/'Philips BS Summary'!D82 -> 0.20605458 | E24: ='Philips Pl Summary'!E29/'Philips BS Summary'!E82 -> 0.18616013 | F24: ='Philips Pl Summary'!F29/'Philips BS Summary'!F82 -> 0.065542677 | G24: ='Philips Pl Summary'!G29/'Philips BS Summary'!G82 -> 0.17658117 | I24: ='Marathon PL Summary'!C31/'Marathon BS Summary'!C71 -> 0.062578609 | J24: ='Marathon PL Summary'!D31/'Marathon BS Summary'!D71 -> 0.063111535 | K24: ='Marathon PL Summary'!E31/'Marathon BS Summary'!E71 -> 0.16477818 | L24: ='Marathon PL Summary'!F31/'Marathon BS Summary'!F71 -> 0.058110182 | M24: ='Marathon PL Summary'!G31/'Marathon BS Summary'!G71 -> 0.14495553
A25: 23 | B25: return on total assets, | C25: ='Philips Pl Summary'!C29/'Philips BS Summary'!C39 -> 0.052384196 | D25: ='Philips Pl Summary'!D29/'Philips BS Summary'!D39 -> 0.10303488 | E25: ='Philips Pl Summary'!E29/'Philips BS Summary'!E39 -> 0.093910357 | F25: ='Philips Pl Summary'!F29/'Philips BS Summary'!F39 -> 0.030104737 | G25: ='Philips Pl Summary'!G29/'Philips BS Summary'!G39 -> 0.087011116 | I25: ='Marathon PL Summary'!C31/'Marathon BS Summary'!C32 -> 0.026756362 | J25: ='Marathon PL Summary'!D31/'Marathon BS Summary'!D32 -> 0.029911771 | K25: ='Marathon PL Summary'!E31/'Marathon BS Summary'!E32 -> 0.069973699 | L25: ='Marathon PL Summary'!F31/'Marathon BS Summary'!F32 -> 0.026433702 | M25: ='Marathon PL Summary'!G31/'Marathon BS Summary'!G32 -> 0.066148672
